BEGIN:VCALENDAR
PRODID:-//eluceo/ical//2.0/EN
VERSION:2.0
CALSCALE:GREGORIAN
BEGIN:VEVENT
UID:hey.bayern.684790.6552520
DTSTAMP:20260420T224759Z
SUMMARY:Bärlauchwochen - Frühlingsgenuss
DTSTART;TZID=Europe/Berlin:20260430T113000
DTEND;TZID=Europe/Berlin:20260430T203000
LOCATION:Pötschenstraße 172\, 8990 Bad Aussee\, Österreich
GEO:47.612510;13.764937
X-APPLE-STRUCTURED-LOCATION;VALUE=URI;X-ADDRESS=Pötschenstraße 172\, 8990
  Bad Aussee\, Österreich;X-APPLE-RADIUS=49;X-TITLE=:geo:47.612510,13.7649
 37
URL;VALUE=URI:https://hey-grafing.de/events/684790
END:VEVENT
END:VCALENDAR
