BEGIN:VCALENDAR
PRODID:-//eluceo/ical//2.0/EN
VERSION:2.0
CALSCALE:GREGORIAN
BEGIN:VEVENT
UID:hey.bayern.687065.6487518
DTSTAMP:20260423T204859Z
SUMMARY:WAGNER RELOADED
DTSTART;TZID=Europe/Berlin:20270107T090000
DTEND;TZID=Europe/Berlin:20270107T130000
LOCATION:Theatergasse 4 (Eingang neben Stadtgalerie)\, 9020 Klagenfurt am W
 örthersee\, Österreich
URL;VALUE=URI:https://hey-grafing.de/events/687065
END:VEVENT
END:VCALENDAR
