BEGIN:VCALENDAR
PRODID:-//eluceo/ical//2.0/EN
VERSION:2.0
CALSCALE:GREGORIAN
BEGIN:VEVENT
UID:hey.bayern.687079.6556980
DTSTAMP:20260423T223030Z
SUMMARY:Yoga am Ressnig Badesee
DTSTART;TZID=Europe/Berlin:20260809T073000
DTEND;TZID=Europe/Berlin:20260810T073000
LOCATION:Angersbichl 88\, 9161 Maria Rain\, Österreich
GEO:46.544434;14.285095
X-APPLE-STRUCTURED-LOCATION;VALUE=URI;X-ADDRESS=Angersbichl 88\, 9161 Maria
  Rain\, Österreich;X-APPLE-RADIUS=49;X-TITLE=:geo:46.544434,14.285095
URL;VALUE=URI:https://hey-grafing.de/events/687079
END:VEVENT
END:VCALENDAR
