BEGIN:VCALENDAR
PRODID:-//eluceo/ical//2.0/EN
VERSION:2.0
CALSCALE:GREGORIAN
BEGIN:VEVENT
UID:hey.bayern.688780.6552943
DTSTAMP:20260420T204933Z
SUMMARY:Daniel Schenk &Mathias Seidl meets See.Ess.Spiele
DTSTART;TZID=Europe/Berlin:20260714T180000
DTEND;TZID=Europe/Berlin:20260715T180000
LOCATION:Am Corso 9-11\, 9220 Velden am Wörther See\, Österreich
URL;VALUE=URI:https://hey-grafing.de/events/688780
END:VEVENT
END:VCALENDAR
