BEGIN:VCALENDAR
PRODID:-//eluceo/ical//2.0/EN
VERSION:2.0
CALSCALE:GREGORIAN
BEGIN:VEVENT
UID:hey.bayern.693541.6550829
DTSTAMP:20260420T223728Z
SUMMARY:Salzburgs größtes Picknick im Strandbad Seekirchen
DTSTART;TZID=Europe/Berlin:20260628T140000
DTEND;TZID=Europe/Berlin:20260628T170000
LOCATION:Seestraße 2\, 5201 Seekirchen am Wallersee\, Österreich
URL;VALUE=URI:https://hey-grafing.de/events/693541
END:VEVENT
END:VCALENDAR
