BEGIN:VCALENDAR
PRODID:-//eluceo/ical//2.0/EN
VERSION:2.0
CALSCALE:GREGORIAN
BEGIN:VEVENT
UID:hey.bayern.693820.6547279
DTSTAMP:20260421T063025Z
SUMMARY:Meine Geschichten mit dem Lebensraum Mur
DTSTART;TZID=Europe/Berlin:20260610T180000
DTEND;TZID=Europe/Berlin:20260610T210000
URL;VALUE=URI:https://hey-grafing.de/events/693820
END:VEVENT
END:VCALENDAR
