BEGIN:VCALENDAR
PRODID:-//eluceo/ical//2.0/EN
VERSION:2.0
CALSCALE:GREGORIAN
BEGIN:VEVENT
UID:hey.bayern.693920.6548357
DTSTAMP:20260421T044504Z
SUMMARY:Zeitreisenwochenende
DTSTART;TZID=Europe/Berlin:20260517T100000
DTEND;TZID=Europe/Berlin:20260517T170000
LOCATION:Burgstraße 65\, 5591 Ramingstein\, Österreich
URL;VALUE=URI:https://hey-grafing.de/events/693920
END:VEVENT
END:VCALENDAR
