BEGIN:VCALENDAR
PRODID:-//eluceo/ical//2.0/EN
VERSION:2.0
CALSCALE:GREGORIAN
BEGIN:VEVENT
UID:hey.bayern.694035.6549067
DTSTAMP:20260421T044607Z
SUMMARY:Musiksommer Neustift: Chorkonzert Chor Happy Voices
DTSTART;TZID=Europe/Berlin:20260707T203000
DTEND;TZID=Europe/Berlin:20260707T213000
LOCATION:6167 Neustift im Stubaital\, Österreich
URL;VALUE=URI:https://hey-grafing.de/events/694035
END:VEVENT
END:VCALENDAR
