BEGIN:VCALENDAR
PRODID:-//eluceo/ical//2.0/EN
VERSION:2.0
CALSCALE:GREGORIAN
BEGIN:VEVENT
UID:hey.bayern.694037.6549069
DTSTAMP:20260421T044603Z
SUMMARY:Musiksommer Neustift: Konzert f. Violine\, Steir. Harmonika\, Harfe
  u.Kontrabass
DTSTART;TZID=Europe/Berlin:20260714T203000
DTEND;TZID=Europe/Berlin:20260714T213000
LOCATION:6167 Neustift im Stubaital\, Österreich
URL;VALUE=URI:https://hey-grafing.de/events/694037
END:VEVENT
END:VCALENDAR
