BEGIN:VCALENDAR
PRODID:-//eluceo/ical//2.0/EN
VERSION:2.0
CALSCALE:GREGORIAN
BEGIN:VEVENT
UID:hey.bayern.694043.6549075
DTSTAMP:20260421T044531Z
SUMMARY:Musiksommer Neustift: Konzert für Orgel
DTSTART;TZID=Europe/Berlin:20260721T203000
DTEND;TZID=Europe/Berlin:20260721T213000
LOCATION:6167 Neustift im Stubaital\, Österreich
URL;VALUE=URI:https://hey-grafing.de/events/694043
END:VEVENT
END:VCALENDAR
