BEGIN:VCALENDAR
PRODID:-//eluceo/ical//2.0/EN
VERSION:2.0
CALSCALE:GREGORIAN
BEGIN:VEVENT
UID:hey.bayern.694092.6549246
DTSTAMP:20260421T041641Z
SUMMARY:Spaß in Bogi´s bunter Fantasiewelt
DTSTART;TZID=Europe/Berlin:20260723T093000
DTEND;TZID=Europe/Berlin:20260723T113000
LOCATION:6364 Brixen im Thale\, Österreich
URL;VALUE=URI:https://hey-grafing.de/events/694092
END:VEVENT
END:VCALENDAR
