BEGIN:VCALENDAR
PRODID:-//eluceo/ical//2.0/EN
VERSION:2.0
CALSCALE:GREGORIAN
BEGIN:VEVENT
UID:hey.bayern.694109.6549429
DTSTAMP:20260421T232831Z
SUMMARY:Vernissage Hermann Eckerstorfer und Gerhard Wöss
DTSTART;TZID=Europe/Berlin:20260821T183000
DTEND;TZID=Europe/Berlin:20260821T235900
LOCATION:Falkensteinstraße 10\, 4132 Lembach im Mühlkreis\, Österreich
GEO:48.495179;13.892927
X-APPLE-STRUCTURED-LOCATION;VALUE=URI;X-ADDRESS=Falkensteinstraße 10\, 413
 2 Lembach im Mühlkreis\, Österreich;X-APPLE-RADIUS=49;X-TITLE=:geo:48.49
 5179,13.892927
URL;VALUE=URI:https://hey-grafing.de/events/694109
END:VEVENT
END:VCALENDAR
