BEGIN:VCALENDAR
PRODID:-//eluceo/ical//2.0/EN
VERSION:2.0
CALSCALE:GREGORIAN
BEGIN:VEVENT
UID:hey.bayern.694285.6550675
DTSTAMP:20260421T121301Z
SUMMARY:Landeswettbewerb "Musik in Bewegung"
DTSTART;TZID=Europe/Berlin:20261010T100000
DTEND;TZID=Europe/Berlin:20261010T235959
LOCATION:Piber 1\, 8580 Köflach\, Österreich
GEO:47.078866;15.101902
X-APPLE-STRUCTURED-LOCATION;VALUE=URI;X-ADDRESS=Piber 1\, 8580 Köflach\, 
 Österreich;X-APPLE-RADIUS=49;X-TITLE=:geo:47.078866,15.101902
URL;VALUE=URI:https://hey-grafing.de/events/694285
END:VEVENT
END:VCALENDAR
