BEGIN:VCALENDAR
PRODID:-//eluceo/ical//2.0/EN
VERSION:2.0
CALSCALE:GREGORIAN
BEGIN:VEVENT
UID:hey.bayern.694288.6550678
DTSTAMP:20260421T062839Z
SUMMARY:Lannacher Kultursommer: Live "De Zwa"
DTSTART;TZID=Europe/Berlin:20260829T190000
DTEND;TZID=Europe/Berlin:20260829T235959
LOCATION:Hauptplatz 1\, 8502 Lannach\, Österreich
GEO:46.943408;15.333375
X-APPLE-STRUCTURED-LOCATION;VALUE=URI;X-ADDRESS=Hauptplatz 1\, 8502 Lannach
 \, Österreich;X-APPLE-RADIUS=49;X-TITLE=:geo:46.943408,15.333375
URL;VALUE=URI:https://hey-grafing.de/events/694288
END:VEVENT
END:VCALENDAR
