BEGIN:VCALENDAR
PRODID:-//eluceo/ical//2.0/EN
VERSION:2.0
CALSCALE:GREGORIAN
BEGIN:VEVENT
UID:hey.bayern.694307.6550783
DTSTAMP:20260421T062841Z
SUMMARY:Meet & Greet: Andreas Vitasek
DTSTART;TZID=Europe/Berlin:20260529T193000
DTEND;TZID=Europe/Berlin:20260529T235959
LOCATION:St. Stefan ob Stainz Nr. 14\, 8511 St. Stefan ob Stainz\, Österre
 ich
GEO:46.929250;15.255770
X-APPLE-STRUCTURED-LOCATION;VALUE=URI;X-ADDRESS=St. Stefan ob Stainz Nr. 14
 \, 8511 St. Stefan ob Stainz\, Österreich;X-APPLE-RADIUS=49;X-TITLE=:geo:
 46.929250,15.255770
URL;VALUE=URI:https://hey-grafing.de/events/694307
END:VEVENT
END:VCALENDAR
