BEGIN:VCALENDAR
PRODID:-//eluceo/ical//2.0/EN
VERSION:2.0
CALSCALE:GREGORIAN
BEGIN:VEVENT
UID:hey.bayern.694316.6550802
DTSTAMP:20260421T075213Z
SUMMARY:Muttertagsbrunch
DTSTART;TZID=Europe/Berlin:20260509T100000
DTEND;TZID=Europe/Berlin:20260509T235959
LOCATION:Sausal 72\, 8444 St. Andrä-Höch\, Österreich
GEO:46.807706;15.420715
X-APPLE-STRUCTURED-LOCATION;VALUE=URI;X-ADDRESS=Sausal 72\, 8444 St. Andrä
 -Höch\, Österreich;X-APPLE-RADIUS=49;X-TITLE=:geo:46.807706,15.420715
URL;VALUE=URI:https://hey-grafing.de/events/694316
END:VEVENT
END:VCALENDAR
