BEGIN:VCALENDAR
PRODID:-//eluceo/ical//2.0/EN
VERSION:2.0
CALSCALE:GREGORIAN
BEGIN:VEVENT
UID:hey.bayern.694339.6550867
DTSTAMP:20260421T041641Z
SUMMARY:Sommerkino
DTSTART;TZID=Europe/Berlin:20260903T200000
DTEND;TZID=Europe/Berlin:20260903T235959
LOCATION:Markt 27\, 5570 Mauterndorf\, Österreich
URL;VALUE=URI:https://hey-grafing.de/events/694339
END:VEVENT
END:VCALENDAR
