BEGIN:VCALENDAR
PRODID:-//eluceo/ical//2.0/EN
VERSION:2.0
CALSCALE:GREGORIAN
BEGIN:VEVENT
UID:hey.bayern.694431.6551467
DTSTAMP:20260421T044515Z
SUMMARY:Frühlingsstart im Kulm-Keltendorf
DTSTART;TZID=Europe/Berlin:20260501T100000
DTEND;TZID=Europe/Berlin:20260501T235959
LOCATION:Kulming 50\, 8212 Pischelsdorf am Kulm\, Österreich
URL;VALUE=URI:https://hey-grafing.de/events/694431
END:VEVENT
END:VCALENDAR
