BEGIN:VCALENDAR
PRODID:-//eluceo/ical//2.0/EN
VERSION:2.0
CALSCALE:GREGORIAN
BEGIN:VEVENT
UID:hey.bayern.694482.6552070
DTSTAMP:20260421T044526Z
SUMMARY:Maibaumfest der Landjugend Aurach
DTSTART;TZID=Europe/Berlin:20260430T190000
DTEND;TZID=Europe/Berlin:20260430T230000
URL;VALUE=URI:https://hey-grafing.de/events/694482
END:VEVENT
END:VCALENDAR
