BEGIN:VCALENDAR
PRODID:-//eluceo/ical//2.0/EN
VERSION:2.0
CALSCALE:GREGORIAN
BEGIN:VEVENT
UID:hey.bayern.694483.6552071
DTSTAMP:20260421T044458Z
SUMMARY:Maibaumfest der Landjugend Reith
DTSTART;TZID=Europe/Berlin:20260430T180000
DTEND;TZID=Europe/Berlin:20260430T220000
URL;VALUE=URI:https://hey-grafing.de/events/694483
END:VEVENT
END:VCALENDAR
