BEGIN:VCALENDAR
PRODID:-//eluceo/ical//2.0/EN
VERSION:2.0
CALSCALE:GREGORIAN
BEGIN:VEVENT
UID:hey.bayern.694507.6552433
DTSTAMP:20260421T044504Z
SUMMARY:Sommer Opening 2026
DTSTART;TZID=Europe/Berlin:20260615T160000
DTEND;TZID=Europe/Berlin:20260616T000000
LOCATION:Europaplatz 1\, 9500 Villach\, Österreich
URL;VALUE=URI:https://hey-grafing.de/events/694507
END:VEVENT
END:VCALENDAR
