BEGIN:VCALENDAR
PRODID:-//eluceo/ical//2.0/EN
VERSION:2.0
CALSCALE:GREGORIAN
BEGIN:VEVENT
UID:hey.bayern.694533.6552708
DTSTAMP:20260421T062838Z
SUMMARY:Workshop\, YOGA\, Brunch & Create
DTSTART;TZID=Europe/Berlin:20260830T083000
DTEND;TZID=Europe/Berlin:20260830T133000
LOCATION:Aichberg 83\, 8552 Eibiswald\, Österreich
URL;VALUE=URI:https://hey-grafing.de/events/694533
END:VEVENT
END:VCALENDAR
