BEGIN:VCALENDAR
PRODID:-//eluceo/ical//2.0/EN
VERSION:2.0
CALSCALE:GREGORIAN
BEGIN:VEVENT
UID:hey.bayern.694536.6552734
DTSTAMP:20260421T021524Z
SUMMARY:Achtsamkeitstraining mit Sara
DTSTART;TZID=Europe/Berlin:20260803T170000
DTEND;TZID=Europe/Berlin:20260803T235900
LOCATION:6344 Walchsee\, Österreich
GEO:47.649430;12.318100
X-APPLE-STRUCTURED-LOCATION;VALUE=URI;X-ADDRESS=6344 Walchsee\, Österreich
 ;X-APPLE-RADIUS=49;X-TITLE=:geo:47.649430,12.318100
URL;VALUE=URI:https://hey-grafing.de/events/694536
END:VEVENT
END:VCALENDAR
