BEGIN:VCALENDAR
PRODID:-//eluceo/ical//2.0/EN
VERSION:2.0
CALSCALE:GREGORIAN
BEGIN:VEVENT
UID:hey.bayern.694549.6552980
DTSTAMP:20260421T020358Z
SUMMARY:Frühjahrskonzert der Musikkapelle Galtür
DTSTART;TZID=Europe/Berlin:20260424T203000
DTEND;TZID=Europe/Berlin:20260424T235900
LOCATION:6563 Galtür\, Österreich
GEO:46.966650;10.189870
X-APPLE-STRUCTURED-LOCATION;VALUE=URI;X-ADDRESS=6563 Galtür\, Österreich;
 X-APPLE-RADIUS=49;X-TITLE=:geo:46.966650,10.189870
URL;VALUE=URI:https://hey-grafing.de/events/694549
END:VEVENT
END:VCALENDAR
