BEGIN:VCALENDAR
PRODID:-//eluceo/ical//2.0/EN
VERSION:2.0
CALSCALE:GREGORIAN
BEGIN:VEVENT
UID:hey.bayern.694563.6553031
DTSTAMP:20260422T011840Z
SUMMARY:Kinderklangwolke 26
DTSTART;TZID=Europe/Berlin:20260906T160000
DTEND;TZID=Europe/Berlin:20260906T235900
LOCATION:Ernst-Koref-Promenade\, 4020 Linz\, Österreich
GEO:48.308689;14.289393
X-APPLE-STRUCTURED-LOCATION;VALUE=URI;X-ADDRESS=Ernst-Koref-Promenade\, 402
 0 Linz\, Österreich;X-APPLE-RADIUS=49;X-TITLE=:geo:48.308689,14.289393
URL;VALUE=URI:https://hey-grafing.de/events/694563
END:VEVENT
END:VCALENDAR
