BEGIN:VCALENDAR
PRODID:-//eluceo/ical//2.0/EN
VERSION:2.0
CALSCALE:GREGORIAN
BEGIN:VEVENT
UID:hey.bayern.694569.6553065
DTSTAMP:20260421T044503Z
SUMMARY:Mühlenfest des Brauchtumsvereins Obertilliach
DTSTART;TZID=Europe/Berlin:20260823T113000
DTEND;TZID=Europe/Berlin:20260823T235900
URL;VALUE=URI:https://hey-grafing.de/events/694569
END:VEVENT
END:VCALENDAR
