BEGIN:VCALENDAR
PRODID:-//eluceo/ical//2.0/EN
VERSION:2.0
CALSCALE:GREGORIAN
BEGIN:VEVENT
UID:hey.bayern.694628.6553730
DTSTAMP:20260421T154755Z
SUMMARY:NOVA
DTSTART;TZID=Europe/Berlin:20260512T200000
DTEND;TZID=Europe/Berlin:20260512T220000
LOCATION:Dragonerstraße 22\, 4600 Wels\, Österreich
GEO:48.157958;14.017906
X-APPLE-STRUCTURED-LOCATION;VALUE=URI;X-ADDRESS=Dragonerstraße 22\, 4600 W
 els\, Österreich;X-APPLE-RADIUS=49;X-TITLE=:geo:48.157958,14.017906
URL;VALUE=URI:https://hey-grafing.de/events/694628
END:VEVENT
END:VCALENDAR
