BEGIN:VCALENDAR
PRODID:-//eluceo/ical//2.0/EN
VERSION:2.0
CALSCALE:GREGORIAN
BEGIN:VEVENT
UID:hey.bayern.694658.6554211
DTSTAMP:20260422T011818Z
SUMMARY:Blutspende Termin
DTSTART;TZID=Europe/Berlin:20260515T153000
DTEND;TZID=Europe/Berlin:20260515T203000
LOCATION:Oberer Markt\, 4292 Kefermarkt\, Österreich
GEO:48.442963;14.538388
X-APPLE-STRUCTURED-LOCATION;VALUE=URI;X-ADDRESS=Oberer Markt\, 4292 Keferma
 rkt\, Österreich;X-APPLE-RADIUS=49;X-TITLE=:geo:48.442963,14.538388
URL;VALUE=URI:https://hey-grafing.de/events/694658
END:VEVENT
END:VCALENDAR
