BEGIN:VCALENDAR
PRODID:-//eluceo/ical//2.0/EN
VERSION:2.0
CALSCALE:GREGORIAN
BEGIN:VEVENT
UID:hey.bayern.694736.6554682
DTSTAMP:20260422T215440Z
SUMMARY:Maibaum-Fest
DTSTART;TZID=Europe/Berlin:20260430T180000
DTEND;TZID=Europe/Berlin:20260430T235900
LOCATION:Im Dorf 17\, 4645 Grünau im Almtal\, Österreich
GEO:47.854520;13.956589
X-APPLE-STRUCTURED-LOCATION;VALUE=URI;X-ADDRESS=Im Dorf 17\, 4645 Grünau i
 m Almtal\, Österreich;X-APPLE-RADIUS=49;X-TITLE=:geo:47.854520,13.956589
URL;VALUE=URI:https://hey-grafing.de/events/694736
END:VEVENT
END:VCALENDAR
