BEGIN:VCALENDAR
PRODID:-//eluceo/ical//2.0/EN
VERSION:2.0
CALSCALE:GREGORIAN
BEGIN:VEVENT
UID:hey.bayern.694744.6554699
DTSTAMP:20260423T164209Z
SUMMARY:Namasté am Prebersee
DTSTART;TZID=Europe/Berlin:20260725T083000
DTEND;TZID=Europe/Berlin:20260725T094500
LOCATION:Murgasse 13\, 5580 Tamsweg\, Österreich
GEO:47.184599;13.858298
X-APPLE-STRUCTURED-LOCATION;VALUE=URI;X-ADDRESS=Murgasse 13\, 5580 Tamsweg\
 , Österreich;X-APPLE-RADIUS=49;X-TITLE=:geo:47.184599,13.858298
URL;VALUE=URI:https://hey-grafing.de/events/694744
END:VEVENT
END:VCALENDAR
