BEGIN:VCALENDAR
PRODID:-//eluceo/ical//2.0/EN
VERSION:2.0
CALSCALE:GREGORIAN
BEGIN:VEVENT
UID:hey.bayern.694826.6556157
DTSTAMP:20260423T040407Z
SUMMARY:Bauernmarkt im Herbst
DTSTART;TZID=Europe/Berlin:20261003T140000
DTEND;TZID=Europe/Berlin:20261003T160000
LOCATION:6382 Kirchdorf in Tirol\, Österreich
GEO:47.558510;12.447430
X-APPLE-STRUCTURED-LOCATION;VALUE=URI;X-ADDRESS=6382 Kirchdorf in Tirol\, 
 Österreich;X-APPLE-RADIUS=49;X-TITLE=:geo:47.558510,12.447430
URL;VALUE=URI:https://hey-grafing.de/events/694826
END:VEVENT
END:VCALENDAR
