BEGIN:VCALENDAR
PRODID:-//eluceo/ical//2.0/EN
VERSION:2.0
CALSCALE:GREGORIAN
BEGIN:VEVENT
UID:hey.bayern.694830.6556164
DTSTAMP:20260423T074341Z
SUMMARY:Blumenwiesen Workshop
DTSTART;TZID=Europe/Berlin:20260425T140000
DTEND;TZID=Europe/Berlin:20260425T235900
LOCATION:6361 Hopfgarten im Brixental\, Österreich
GEO:47.449080;12.158200
X-APPLE-STRUCTURED-LOCATION;VALUE=URI;X-ADDRESS=6361 Hopfgarten im Brixenta
 l\, Österreich;X-APPLE-RADIUS=49;X-TITLE=:geo:47.449080,12.158200
URL;VALUE=URI:https://hey-grafing.de/events/694830
END:VEVENT
END:VCALENDAR
