BEGIN:VCALENDAR
PRODID:-//eluceo/ical//2.0/EN
VERSION:2.0
CALSCALE:GREGORIAN
BEGIN:VEVENT
UID:hey.bayern.694925.6556892
DTSTAMP:20260423T080039Z
SUMMARY:Opening OD Trails
DTSTART;TZID=Europe/Berlin:20260516T000000
DTEND;TZID=Europe/Berlin:20260516T235900
LOCATION:6372 Oberndorf in Tirol\, Österreich
URL;VALUE=URI:https://hey-grafing.de/events/694925
END:VEVENT
END:VCALENDAR
