BEGIN:VCALENDAR
PRODID:-//eluceo/ical//2.0/EN
VERSION:2.0
CALSCALE:GREGORIAN
BEGIN:VEVENT
UID:hey.bayern.694955.6557020
DTSTAMP:20260423T223123Z
SUMMARY:Vanessa Dollinger und Chris K. live on Stage
DTSTART;TZID=Europe/Berlin:20260517T143000
DTEND;TZID=Europe/Berlin:20260517T163000
LOCATION:Kurpark Velden\, 9220 Velden am Wörther See\, Österreich
GEO:46.613553;14.042307
X-APPLE-STRUCTURED-LOCATION;VALUE=URI;X-ADDRESS=Kurpark Velden\, 9220 Velde
 n am Wörther See\, Österreich;X-APPLE-RADIUS=49;X-TITLE=:geo:46.613553,1
 4.042307
URL;VALUE=URI:https://hey-grafing.de/events/694955
END:VEVENT
END:VCALENDAR
