BEGIN:VCALENDAR
PRODID:-//eluceo/ical//2.0/EN
VERSION:2.0
CALSCALE:GREGORIAN
BEGIN:VEVENT
UID:hey.bayern.694971.6557176
DTSTAMP:20260424T055338Z
SUMMARY:25 Jahre Museumsverein Klostertal
DTSTART;TZID=Europe/Berlin:20260508T000000
DTEND;TZID=Europe/Berlin:20260509T000000
URL;VALUE=URI:https://hey-grafing.de/events/694971
END:VEVENT
END:VCALENDAR
