BEGIN:VCALENDAR
PRODID:-//eluceo/ical//2.0/EN
VERSION:2.0
CALSCALE:GREGORIAN
BEGIN:VEVENT
UID:hey.bayern.694976.6557199
DTSTAMP:20260424T095729Z
SUMMARY:3D Filmerlebnis Biosphärenpark Nockberge
DTSTART;TZID=Europe/Berlin:20260907T203000
DTEND;TZID=Europe/Berlin:20260907T213000
LOCATION:Dorfstraße 30\, 9546 Bad Kleinkirchheim\, Österreich
GEO:46.812845;13.779513
X-APPLE-STRUCTURED-LOCATION;VALUE=URI;X-ADDRESS=Dorfstraße 30\, 9546 Bad K
 leinkirchheim\, Österreich;X-APPLE-RADIUS=49;X-TITLE=:geo:46.812845,13.77
 9513
URL;VALUE=URI:https://hey-grafing.de/events/694976
END:VEVENT
END:VCALENDAR
