BEGIN:VCALENDAR
PRODID:-//eluceo/ical//2.0/EN
VERSION:2.0
CALSCALE:GREGORIAN
BEGIN:VEVENT
UID:hey.bayern.694978.6557211
DTSTAMP:20260424T111641Z
SUMMARY:Abschlusskonzert Streicherwochenende
DTSTART;TZID=Europe/Berlin:20260524T150000
DTEND;TZID=Europe/Berlin:20260524T170000
LOCATION:Prinzregenten-Platz 1\, 87561 Oberstdorf
GEO:47.406050;10.276840
X-APPLE-STRUCTURED-LOCATION;VALUE=URI;X-ADDRESS=Prinzregenten-Platz 1\, 875
 61 Oberstdorf;X-APPLE-RADIUS=49;X-TITLE=:geo:47.406050,10.276840
URL;VALUE=URI:https://hey-grafing.de/events/694978
END:VEVENT
END:VCALENDAR
