BEGIN:VCALENDAR
PRODID:-//eluceo/ical//2.0/EN
VERSION:2.0
CALSCALE:GREGORIAN
BEGIN:VEVENT
UID:hey.bayern.694980.6557213
DTSTAMP:20260424T005229Z
SUMMARY:Adventkranzreigen: Die erste Kerze brennt (Kopie)
DTSTART;TZID=Europe/Berlin:20261129T160000
DTEND;TZID=Europe/Berlin:20261129T210000
LOCATION:Marktplatz 2\, 4490 St. Florian\, Österreich
GEO:48.206245;14.379863
X-APPLE-STRUCTURED-LOCATION;VALUE=URI;X-ADDRESS=Marktplatz 2\, 4490 St. Flo
 rian\, Österreich;X-APPLE-RADIUS=49;X-TITLE=:geo:48.206245,14.379863
URL;VALUE=URI:https://hey-grafing.de/events/694980
END:VEVENT
END:VCALENDAR
