BEGIN:VCALENDAR
PRODID:-//eluceo/ical//2.0/EN
VERSION:2.0
CALSCALE:GREGORIAN
BEGIN:VEVENT
UID:hey.bayern.694988.6557240
DTSTAMP:20260424T095747Z
SUMMARY:Aufstand der Jugend - Filmvorführung & Gespräch
DTSTART;TZID=Europe/Berlin:20260517T110000
DTEND;TZID=Europe/Berlin:20260517T133000
LOCATION:Ludwigstraße 7\, 87561 Oberstdorf
GEO:47.405600;10.278800
X-APPLE-STRUCTURED-LOCATION;VALUE=URI;X-ADDRESS=Ludwigstraße 7\, 87561 Obe
 rstdorf;X-APPLE-RADIUS=49;X-TITLE=:geo:47.405600,10.278800
URL;VALUE=URI:https://hey-grafing.de/events/694988
END:VEVENT
END:VCALENDAR
