BEGIN:VCALENDAR
PRODID:-//eluceo/ical//2.0/EN
VERSION:2.0
CALSCALE:GREGORIAN
BEGIN:VEVENT
UID:hey.bayern.694990.6557257
DTSTAMP:20260424T055336Z
SUMMARY:Ausstellung: Oliver Ajkovic | Abgründe
DTSTART;TZID=Europe/Berlin:20260527T190000
DTEND;TZID=Europe/Berlin:20260527T210000
LOCATION:Mariahilfstraße 29\, 6900 Bregenz\, Österreich
GEO:47.495160;9.729730
X-APPLE-STRUCTURED-LOCATION;VALUE=URI;X-ADDRESS=Mariahilfstraße 29\, 6900 
 Bregenz\, Österreich;X-APPLE-RADIUS=49;X-TITLE=:geo:47.495160,9.729730
URL;VALUE=URI:https://hey-grafing.de/events/694990
END:VEVENT
END:VCALENDAR
